BEGIN:VCALENDAR
VERSION:2.0
PRODID:-//ChamberMaster//Event Calendar 2.0//EN
METHOD:PUBLISH
X-PUBLISHED-TTL:P3D
REFRESH-INTERVAL:P3D
CALSCALE:GREGORIAN
BEGIN:VEVENT
DTSTART;VALUE=DATE:20240417
DTEND;VALUE=DATE:20240418
TRANSP:TRANSPARENT
X-MICROSOFT-CDO-ALLDAYEVENT:TRUE
SUMMARY:Discover Marion County Developers Conference
DESCRIPTION:Developers Conference Schedule\n\nApril 17\, 2024\n\nAt the Falcon Center Conference Rooms\n\n\n\n8:00 am        Registration & Breakfast\n\n \n\n                    Welcome    \n\n                    Patrick Snively\, President of Marion County Chamber of Commerce\n\n                    Mike Davis\, President of Fairmont State University \n\n \n\n9:00 am        Opening Keynote: Economic Outlook\n\n                    John Deskins\, Bureau of Business & Economic Research Director & Associate Professor of Economics at West Virginia University\n\n \n\n10:00 am      Resources Panel (Moderated by David Kirk)\n\n	Todd Crump\, Small Business Development Center \n	Tony Merendino\, MVB Bank\, Inc.\n	Carly O'Dell Jones\, City of Fairmont\n	Leah Mistick\, Environmental Standards\, Inc.\n	Matt Borror\, WV Department of Economic Development \n\n \n\n11:30 am      Success Stories Panel (Moderated by David Kirk)\n\n\n	Jeff Merrifield\, East Side Story\n	Aaron Yanuzo\, WVU Medicine\n	Jay Rogers\, Omni Associates-Architects\n	Hannah Lenhart\, Hannah's Clay Creations\n\n                                        \n\n12:30 pm      Lunch Keynote: Hydrogen Hub\n\n                    Brian Redmond\, Co-founder and Managing Director of Paragon Energy Holdings\, LLC and Paragon Asset Group LLC & President of Hog Lick Aggregates LLC\n\n \n\n1:30 pm        Tours of Development Projects\n\n\n	WVU Medicine - Fairmont Medical Center\n	Middletown Commons \n	Downtown Building Walkthroughs \n\n \n\n5:00 pm       Dinner\n\n                    Muriale's Italian Kitchen
X-ALT-DESC;FMTTYPE=text/html:<strong><span style="border:none windowtext 1.0pt\;padding:0in\;"><span style="color:#242424\;"><span style="font-family:arial\,sans-serif\;">Developers Conference Schedule</span></span></span></strong><br />\nApril 17\, 2024<br />\nAt the Falcon Center Conference Rooms<br />\n<br />\n<strong><span style="border:none windowtext 1.0pt\;padding:0in\;"><span style="color:#242424\;"><span style="font-family:arial\,sans-serif\;">8:00 am &nbsp\;&nbsp\;&nbsp\;&nbsp\;&nbsp\;&nbsp\; Registration &amp\; Breakfast</span></span></span></strong><br />\n&nbsp\;<br />\n<strong><span style="border:none windowtext 1.0pt\;padding:0in\;"><span style="color:#242424\;"><span style="font-family:arial\,sans-serif\;">&nbsp\;&nbsp\;&nbsp\;&nbsp\;&nbsp\;&nbsp\;&nbsp\;&nbsp\;&nbsp\;&nbsp\;&nbsp\;&nbsp\;&nbsp\;&nbsp\;&nbsp\;&nbsp\;&nbsp\;&nbsp\;&nbsp\; Welcome</span></span></span></strong>&nbsp\;&nbsp\;&nbsp\;&nbsp\;<br />\n<span style="border:none windowtext 1.0pt\;padding:0in\;"><span style="color:#242424\;"><span style="font-family:arial\,sans-serif\;">&nbsp\;&nbsp\;&nbsp\;&nbsp\;&nbsp\;&nbsp\;&nbsp\;&nbsp\;&nbsp\;&nbsp\;&nbsp\;&nbsp\;&nbsp\;&nbsp\;&nbsp\;&nbsp\;&nbsp\;&nbsp\;&nbsp\; Patrick Snively\, President of Marion County Chamber of Commerce</span></span></span><br />\n<span style="border:none windowtext 1.0pt\;padding:0in\;"><span style="color:#242424\;"><span style="font-family:arial\,sans-serif\;">&nbsp\;&nbsp\;&nbsp\;&nbsp\;&nbsp\;&nbsp\;&nbsp\;&nbsp\;&nbsp\;&nbsp\;&nbsp\;&nbsp\;&nbsp\;&nbsp\;&nbsp\;&nbsp\;&nbsp\;&nbsp\;&nbsp\; Mike Davis\, President of Fairmont State University </span></span></span><br />\n&nbsp\;<br />\n<strong><span style="border:none windowtext 1.0pt\;padding:0in\;"><span style="color:#242424\;"><span style="font-family:arial\,sans-serif\;">9:00 am &nbsp\;&nbsp\;&nbsp\;&nbsp\;&nbsp\;&nbsp\; Opening Keynote: Economic Outlook</span></span></span></strong><br />\n<span style="border:none windowtext 1.0pt\;padding:0in\;"><span style="color:#242424\;"><span style="font-family:arial\,sans-serif\;">&nbsp\;&nbsp\;&nbsp\;&nbsp\;&nbsp\;&nbsp\;&nbsp\;&nbsp\;&nbsp\;&nbsp\;&nbsp\;&nbsp\;&nbsp\;&nbsp\;&nbsp\;&nbsp\;&nbsp\;&nbsp\;&nbsp\; John Deskins\, </span></span></span><span style="color:black\;"><span style="font-family:arial\,sans-serif\;">Bureau of Business &amp\; Economic Research Director &amp\; Associate Professor of Economics at West Virginia University</span></span><br />\n&nbsp\;<br />\n<strong><span style="border:none windowtext 1.0pt\;padding:0in\;"><span style="color:#242424\;"><span style="font-family:arial\,sans-serif\;">10:00 am &nbsp\;&nbsp\;&nbsp\;&nbsp\; Resources Panel</span></span></span></strong><span style="border:none windowtext 1.0pt\;padding:0in\;"><span style="color:#242424\;"><span style="font-family:arial\,sans-serif\;"> <em>(Moderated by David Kirk)</em></span></span></span>\n<ul>\n	<li style="margin-top:0in\;margin-right:0in\;margin-bottom:0in\;background:white\;"><span style="border:none windowtext 1.0pt\;padding:0in\;"><span style="color:#242424\;"><span style="font-family:arial\,sans-serif\;">Todd Crump\, Small Business Development Center </span></span></span></li>\n	<li style="margin-top:0in\;margin-right:0in\;margin-bottom:0in\;background:white\;"><span style="border:none windowtext 1.0pt\;padding:0in\;"><span style="color:#242424\;"><span style="font-family:arial\,sans-serif\;">Tony Merendino\, MVB Bank\, Inc.</span></span></span></li>\n	<li style="margin-top:0in\;margin-right:0in\;margin-bottom:0in\;background:white\;"><span style="border:none windowtext 1.0pt\;padding:0in\;"><span style="color:#242424\;"><span style="font-family:arial\,sans-serif\;">Carly O&rsquo\;Dell Jones\, City of Fairmont</span></span></span></li>\n	<li style="margin-top:0in\;margin-right:0in\;margin-bottom:0in\;background:white\;"><span style="color:black\;"><span style="font-family:arial\,sans-serif\;">Leah Mistick</span></span><span style="border:none windowtext 1.0pt\;padding:0in\;"><span style="color:#242424\;"><span style="font-family:arial\,sans-serif\;">\, Environmental Standards\, Inc.</span></span></span></li>\n	<li style="margin-top:0in\;margin-right:0in\;margin-bottom:0in\;background:white\;"><span style="color:black\;"><span style="font-family:arial\,sans-serif\;">Matt Borror\, </span></span><span style="border:none windowtext 1.0pt\;padding:0in\;"><span style="color:#242424\;"><span style="font-family:arial\,sans-serif\;">WV Department of Economic Development </span></span></span></li>\n</ul>\n&nbsp\;<br />\n<strong><span style="border:none windowtext 1.0pt\;padding:0in\;"><span style="color:#242424\;"><span style="font-family:arial\,sans-serif\;">11:30 am &nbsp\;&nbsp\;&nbsp\;&nbsp\; Success Stories Panel</span></span></span></strong><span style="border:none windowtext 1.0pt\;padding:0in\;"><span style="color:#242424\;"><span style="font-family:arial\,sans-serif\;"> <em>(Moderated by David Kirk)</em></span></span></span>\n\n<ul>\n	<li style="margin-top:0in\;margin-right:0in\;margin-bottom:0in\;background:white\;"><span style="border:none windowtext 1.0pt\;padding:0in\;"><span style="color:#242424\;"><span style="font-family:arial\,sans-serif\;">Jeff Merrifield\, East Side Story</span></span></span></li>\n	<li style="margin-top:0in\;margin-right:0in\;margin-bottom:0in\;background:white\;"><span style="border:none windowtext 1.0pt\;padding:0in\;"><span style="color:#242424\;"><span style="font-family:arial\,sans-serif\;">Aaron Yanuzo\, WVU Medicine</span></span></span></li>\n	<li style="margin-top:0in\;margin-right:0in\;margin-bottom:0in\;background:white\;"><span style="border:none windowtext 1.0pt\;padding:0in\;"><span style="color:#242424\;"><span style="font-family:arial\,sans-serif\;">Jay Rogers\, Omni Associates-Architects</span></span></span></li>\n	<li style="margin-top:0in\;margin-right:0in\;margin-bottom:0in\;background:white\;"><span style="border:none windowtext 1.0pt\;padding:0in\;"><span style="color:#242424\;"><span style="font-family:arial\,sans-serif\;">Hannah Lenhart\, Hannah&rsquo\;s Clay Creations</span></span></span></li>\n</ul>\n&nbsp\;&nbsp\;&nbsp\;&nbsp\;&nbsp\;&nbsp\;&nbsp\;&nbsp\;&nbsp\;&nbsp\;&nbsp\;&nbsp\;&nbsp\;&nbsp\;&nbsp\;&nbsp\;&nbsp\;&nbsp\;&nbsp\;&nbsp\;&nbsp\;&nbsp\;&nbsp\;&nbsp\;&nbsp\;&nbsp\;&nbsp\;&nbsp\;&nbsp\;&nbsp\;&nbsp\;&nbsp\;&nbsp\;&nbsp\;&nbsp\;&nbsp\;&nbsp\;&nbsp\;&nbsp\;&nbsp\;<br />\n<strong><span style="border:none windowtext 1.0pt\;padding:0in\;"><span style="color:#242424\;"><span style="font-family:arial\,sans-serif\;">12:30 pm &nbsp\;&nbsp\;&nbsp\;&nbsp\; Lunch Keynote: Hydrogen Hub</span></span></span></strong><br />\n<span style="border:none windowtext 1.0pt\;padding:0in\;"><span style="color:#242424\;"><span style="font-family:arial\,sans-serif\;">&nbsp\;&nbsp\;&nbsp\;&nbsp\;&nbsp\;&nbsp\;&nbsp\;&nbsp\;&nbsp\;&nbsp\;&nbsp\;&nbsp\;&nbsp\;&nbsp\;&nbsp\;&nbsp\;&nbsp\;&nbsp\;&nbsp\; Brian Redmond\, Co-founder and Managing Director of Paragon Energy Holdings\, LLC and Paragon Asset Group LLC &amp\; President of Hog Lick Aggregates LLC</span></span></span><br />\n&nbsp\;<br />\n<span style="border:none windowtext 1.0pt\;padding:0in\;"><span style="color:#242424\;"><span style="font-family:arial\,sans-serif\;">1<strong>:30 pm &nbsp\;&nbsp\;&nbsp\;&nbsp\;&nbsp\;&nbsp\; Tours of Development Projects</strong></span></span></span>\n\n<ul>\n	<li style="margin-top:0in\;margin-right:0in\;margin-bottom:0in\;"><span style="border:none windowtext 1.0pt\;padding:0in\;"><span style="color:#242424\;"><span style="font-family:arial\,sans-serif\;">WVU Medicine - Fairmont Medical Center</span></span></span></li>\n	<li style="margin-top:0in\;margin-right:0in\;margin-bottom:0in\;background:white\;"><span style="border:none windowtext 1.0pt\;padding:0in\;"><span style="color:#242424\;"><span style="font-family:arial\,sans-serif\;">Middletown Commons </span></span></span></li>\n	<li style="margin-top:0in\;margin-right:0in\;margin-bottom:0in\;background:white\;"><span style="border:none windowtext 1.0pt\;padding:0in\;"><span style="color:#242424\;"><span style="font-family:arial\,sans-serif\;">Downtown Building Walkthroughs </span></span></span></li>\n</ul>\n&nbsp\;<br />\n<strong><span style="border:none windowtext 1.0pt\;padding:0in\;"><span style="color:#242424\;"><span style="font-family:arial\,sans-serif\;">5:00 pm&nbsp\;&nbsp\;&nbsp\;&nbsp\;&nbsp\;&nbsp\; Dinner</span></span></span></strong><br />\n<span style="border:none windowtext 1.0pt\;padding:0in\;"><span style="color:#242424\;"><span style="font-family:arial\,sans-serif\;">&nbsp\;&nbsp\;&nbsp\;&nbsp\;&nbsp\;&nbsp\;&nbsp\;&nbsp\;&nbsp\;&nbsp\;&nbsp\;&nbsp\;&nbsp\;&nbsp\;&nbsp\;&nbsp\;&nbsp\;&nbsp\;&nbsp\; Muriale&rsquo\;s Italian Kitchen</span></span></span>
LOCATION:
UID:e.1697.651
SEQUENCE:3
DTSTAMP:20260424T181414Z
URL:http://marionchamberwv.chambermaster.com/events/details/discover-marion-county-developers-conference-651
END:VEVENT

END:VCALENDAR
