BEGIN:VCALENDAR
VERSION:2.0
PRODID:-//ChamberMaster//Event Calendar 2.0//EN
METHOD:PUBLISH
X-PUBLISHED-TTL:P3D
REFRESH-INTERVAL:P3D
CALSCALE:GREGORIAN
BEGIN:VEVENT
DTSTART;VALUE=DATE:20240518
DTEND;VALUE=DATE:20240519
TRANSP:TRANSPARENT
X-MICROSOFT-CDO-ALLDAYEVENT:TRUE
SUMMARY:Flower Arrangement Class
DESCRIPTION:The Flower Arrangement Class has been postponed.
X-ALT-DESC;FMTTYPE=text/html:<font color="#644432" face="verdana"><span style="font-size: 14px\;">The Flower Arrangement Class has been postponed.</span></font>
LOCATION:
UID:e.1697.670
SEQUENCE:3
DTSTAMP:20260421T083528Z
URL:http://marionchamberwv.chambermaster.com/events/details/flower-arrangement-class-670
END:VEVENT

END:VCALENDAR
